BEGIN:VCALENDAR
VERSION:2.0
PRODID:-//Abarka Coop. - ECPv6.15.20//NONSGML v1.0//EN
CALSCALE:GREGORIAN
METHOD:PUBLISH
X-ORIGINAL-URL:https://abarkacoop.com
X-WR-CALDESC:Eventos para Abarka Coop.
REFRESH-INTERVAL;VALUE=DURATION:PT1H
X-Robots-Tag:noindex
X-PUBLISHED-TTL:PT1H
BEGIN:VTIMEZONE
TZID:Europe/Madrid
BEGIN:DAYLIGHT
TZOFFSETFROM:+0100
TZOFFSETTO:+0200
TZNAME:CEST
DTSTART:20230326T010000
END:DAYLIGHT
BEGIN:STANDARD
TZOFFSETFROM:+0200
TZOFFSETTO:+0100
TZNAME:CET
DTSTART:20231029T010000
END:STANDARD
BEGIN:DAYLIGHT
TZOFFSETFROM:+0100
TZOFFSETTO:+0200
TZNAME:CEST
DTSTART:20240331T010000
END:DAYLIGHT
BEGIN:STANDARD
TZOFFSETFROM:+0200
TZOFFSETTO:+0100
TZNAME:CET
DTSTART:20241027T010000
END:STANDARD
BEGIN:DAYLIGHT
TZOFFSETFROM:+0100
TZOFFSETTO:+0200
TZNAME:CEST
DTSTART:20250330T010000
END:DAYLIGHT
BEGIN:STANDARD
TZOFFSETFROM:+0200
TZOFFSETTO:+0100
TZNAME:CET
DTSTART:20251026T010000
END:STANDARD
END:VTIMEZONE
BEGIN:VEVENT
DTSTART;TZID=Europe/Madrid:20240929T170000
DTEND;TZID=Europe/Madrid:20240929T170000
DTSTAMP:20260420T194943
CREATED:20240620T123522Z
LAST-MODIFIED:20240903T111016Z
UID:10773-1727629200-1727629200@abarkacoop.com
SUMMARY:TAKUSANU ABARKA
DESCRIPTION:🎉 ¡Celebramos 3 años de Abarka! 🎉 \n¡Ven a disfrutar de un día lleno de gastronomía\, música\, danza y muchas sorpresas más! \n🗓️ Fecha: 29 de septiembre\n🕔 Horario: de 17:00h a 00:00h\n🌍 Evento: Una celebración para destacar la riqueza de las culturas afrodiaspóricas\, fomentar la unidad y la solidaridad en nuestra comunidad. \n¡No te lo pierdas! \n  \n  \n 
URL:https://abarkacoop.com/calendario/takusanu-abarka/
LOCATION:Sala Paral.lel 62\, Av. del Paral·lel\, 62\, Ciutat Vella\, Barcelona\, 08001\, España
END:VEVENT
BEGIN:VEVENT
DTSTART;VALUE=DATE:20240816
DTEND;VALUE=DATE:20240822
DTSTAMP:20260420T194943
CREATED:20240503T084341Z
LAST-MODIFIED:20240503T085727Z
UID:10674-1723766400-1724284799@abarkacoop.com
SUMMARY:ROTOTOM SUNSPLASH
DESCRIPTION:Abarka Catering entra en Benicàssim para participar en el ¡festival internacional de Reggae! Si os encontráis por allí\, tendréis la oportunidad de degustar algunos de nuestros entrantes\, platos\, postres …etc que os aseguramos que NO os dejará indiferente. \nVenimos con nuevas propuestas gastronómicas que OS ENCANTARÁ. \n  \n¡OS ESPERAMOS!
URL:https://abarkacoop.com/calendario/rototom-sunsplash/
LOCATION:BENICÀSSIM\, Carretera N-340\, Km. 986.3\, 12560 Benicàssim\, Castellón\, Benicàssim\, Valencia\, 12560\, España
CATEGORIES:Festivales
END:VEVENT
BEGIN:VEVENT
DTSTART;VALUE=DATE:20240704
DTEND;VALUE=DATE:20240708
DTSTAMP:20260420T194943
CREATED:20240620T122423Z
LAST-MODIFIED:20240620T122423Z
UID:10769-1720051200-1720396799@abarkacoop.com
SUMMARY:OYOFE FESTIVAL
DESCRIPTION:
URL:https://abarkacoop.com/calendario/oyofe-festival/
END:VEVENT
BEGIN:VEVENT
DTSTART;TZID=Europe/Madrid:20240630T180000
DTEND;TZID=Europe/Madrid:20240630T233000
DTSTAMP:20260420T194943
CREATED:20240620T122549Z
LAST-MODIFIED:20240620T122549Z
UID:10771-1719770400-1719790200@abarkacoop.com
SUMMARY:AfroBrunch Barcelona
DESCRIPTION:
URL:https://abarkacoop.com/calendario/afrobrunch-barcelona/
END:VEVENT
BEGIN:VEVENT
DTSTART;TZID=Europe/Madrid:20240620T180000
DTEND;TZID=Europe/Madrid:20240620T233000
DTSTAMP:20260420T194943
CREATED:20240620T122254Z
LAST-MODIFIED:20240620T122254Z
UID:10767-1718906400-1718926200@abarkacoop.com
SUMMARY:AfroBrunch Bilbao
DESCRIPTION:
URL:https://abarkacoop.com/calendario/afrobrunch-bilbao/
END:VEVENT
BEGIN:VEVENT
DTSTART;VALUE=DATE:20240607
DTEND;VALUE=DATE:20240610
DTSTAMP:20260420T194943
CREATED:20240620T122045Z
LAST-MODIFIED:20240620T122045Z
UID:10765-1717718400-1717977599@abarkacoop.com
SUMMARY:SHARE FESTIVAL
DESCRIPTION:
URL:https://abarkacoop.com/calendario/share-festival/
END:VEVENT
BEGIN:VEVENT
DTSTART;VALUE=DATE:20240529
DTEND;VALUE=DATE:20240603
DTSTAMP:20260420T194943
CREATED:20240503T083137Z
LAST-MODIFIED:20240521T174711Z
UID:10659-1716940800-1717372799@abarkacoop.com
SUMMARY:Primavera Sound
DESCRIPTION:Del 29 al 2 de Junio Abarka Catering participará por tercer año consecutivo en el ¡Primavera Sound! \nSi estáis por allí\, os podéis acercar para degustar de nuestros ¡fantásticos y deliciosos menús culinarios de la gastronomía africana! Este año contamos con nuevos entrantes\, platillos\, postres…etc que NO os dejará indiferente. ¡Todo DELICIOSO ! \n¡OS ESPERAMOS!
URL:https://abarkacoop.com/calendario/primavera-sound/
LOCATION:Parc del Fòrum- Barcelona\, Parque del Forum\, Carrer de la Pau\, 12 Sant Adrià de Besòs\, Barcelona\, Barcelona\, 08930
CATEGORIES:Festivales
END:VEVENT
BEGIN:VEVENT
DTSTART;TZID=Europe/Madrid:20240524T200000
DTEND;TZID=Europe/Madrid:20240524T230000
DTSTAMP:20260420T194943
CREATED:20240521T130041Z
LAST-MODIFIED:20240521T135800Z
UID:10719-1716580800-1716591600@abarkacoop.com
SUMMARY:Nueva experiencia ESPAI KAFO
DESCRIPTION:Abarka presenta una NUEVA EXPERIENCIA el día 24 de Mayo. Apertura del ESPAI KAFO. Se busca grupo de entre 5 y 10 personas para estrenar este espacio. . \nNueva experiencia \nNuevo Espacio \nNueva Carta 25-35 € por persona \n¿Te lo vas a perder? ¡Haz YA tu reserva!
URL:https://abarkacoop.com/calendario/nueva-experiencia-espai-kafo/
LOCATION:Abarka Restaurante\, C/ del Guadiana\, 28\,\, Barcelona\, Catalunya\, 08014\, España
END:VEVENT
BEGIN:VEVENT
DTSTART;TZID=Europe/Madrid:20240519T140000
DTEND;TZID=Europe/Madrid:20240519T180000
DTSTAMP:20260420T194943
CREATED:20240517T130211Z
LAST-MODIFIED:20240517T130542Z
UID:10713-1716127200-1716141600@abarkacoop.com
SUMMARY:Salvem S.O.S Racisme
DESCRIPTION:Tarde solidaria con S.O.S Racisme disfrutando de la gastronomía africana proporcionada desde Abarka mientras damos soporte a la lucha antirracista. \n  \nEl evento tendrá lugar desde las 14:00h hasta las 18:00h en el Casal de Barri. \nLa apertura de puertas a la 13:00h. \n 
URL:https://abarkacoop.com/calendario/salvem-s-o-s-racisme/
LOCATION:Casal de Barri\, Pou la Figuera\, c/Sant Pere més Baix\, 70\, Barcelona\, 08003\, España
END:VEVENT
BEGIN:VEVENT
DTSTART;TZID=Europe/Madrid:20240407T190000
DTEND;TZID=Europe/Madrid:20240407T220000
DTSTAMP:20260420T194943
CREATED:20240402T101935Z
LAST-MODIFIED:20240502T143531Z
UID:10536-1712516400-1712527200@abarkacoop.com
SUMMARY:IFTAR SOLIDARIO
DESCRIPTION:¡Te invitamos a compartir un Buffet en Comunidad! El Domingo 7 de abril a partir de las 19.00h. \nEntrada libre. \nTaquilla Inversa: Tú decides cuánto pagar/A voluntad. \nEl dinero recaudado será donado*\n\n\n\n 
URL:https://abarkacoop.com/calendario/iftar-solidario/
LOCATION:Abarka Restaurante\, C/ del Guadiana\, 28\,\, Barcelona\, Catalunya\, 08014\, España
ATTACH;FMTTYPE=image/jpeg:https://abarkacoop.com/wp-content/uploads/2024/04/IftarsolidarioAbarka-1.jpg
END:VEVENT
BEGIN:VEVENT
DTSTART;TZID=Europe/Madrid:20240329T103000
DTEND;TZID=Europe/Madrid:20240329T120000
DTSTAMP:20260420T194943
CREATED:20240115T220714Z
LAST-MODIFIED:20240326T050226Z
UID:9559-1711708200-1711713600@abarkacoop.com
SUMMARY:Taller cocina
DESCRIPTION:En nuestros talleres aprende mucho más que como cocinar un plato\, aprender sobre las culturas de los pueblos africanos y a (de)construir tu imaginario sobre África.
URL:https://abarkacoop.com/calendario/taller-cocina/
LOCATION:Abarka Restaurante\, C/ del Guadiana\, 28\,\, Barcelona\, Catalunya\, 08014\, España
CATEGORIES:Talleres
ATTACH;FMTTYPE=image/jpeg:https://abarkacoop.com/wp-content/uploads/2017/12/Talleres_de_cocina-scaled.jpg
END:VEVENT
END:VCALENDAR